BEGIN:VCALENDAR
VERSION:2.0
PRODID:-//Georg-Forster-Gesamtschule Wörrstadt - ECPv6.3.5//NONSGML v1.0//EN
CALSCALE:GREGORIAN
METHOD:PUBLISH
X-ORIGINAL-URL:https://gfg-woerrstadt.de
X-WR-CALDESC:Veranstaltungen für Georg-Forster-Gesamtschule Wörrstadt
REFRESH-INTERVAL;VALUE=DURATION:PT1H
X-Robots-Tag:noindex
X-PUBLISHED-TTL:PT1H
BEGIN:VTIMEZONE
TZID:UTC
BEGIN:STANDARD
TZOFFSETFROM:+0000
TZOFFSETTO:+0000
TZNAME:UTC
DTSTART:20260101T000000
END:STANDARD
END:VTIMEZONE
BEGIN:VEVENT
DTSTART;VALUE=DATE:20260518
DTEND;VALUE=DATE:20260519
DTSTAMP:20260424T125956
CREATED:20260123T101327Z
LAST-MODIFIED:20260123T101327Z
UID:10000658-1779062400-1779148799@gfg-woerrstadt.de
SUMMARY:Jahrgang 10: Exkursion nach Straßburg
DESCRIPTION:
URL:https://gfg-woerrstadt.de/kalender/jahrgang-10-exkursion-nach-strassburg
END:VEVENT
BEGIN:VEVENT
DTSTART;TZID=UTC:20260518T080000
DTEND;TZID=UTC:20260518T130500
DTSTAMP:20260424T125956
CREATED:20260123T101214Z
LAST-MODIFIED:20260123T101214Z
UID:10000657-1779091200-1779109500@gfg-woerrstadt.de
SUMMARY:Probentag der Musikprojekte
DESCRIPTION:
URL:https://gfg-woerrstadt.de/kalender/probentag-der-musikprojekte
END:VEVENT
BEGIN:VEVENT
DTSTART;VALUE=DATE:20260519
DTEND;VALUE=DATE:20260520
DTSTAMP:20260424T125956
CREATED:20260123T101418Z
LAST-MODIFIED:20260123T101418Z
UID:10000659-1779148800-1779235199@gfg-woerrstadt.de
SUMMARY:Jahrgang 10 und Sozialkunde-LK Jg.12: Exkursion nach Straßburg
DESCRIPTION:
URL:https://gfg-woerrstadt.de/kalender/jahrgang-10-und-sozialkunde-lk-jg-12-exkursion-nach-strassburg
END:VEVENT
BEGIN:VEVENT
DTSTART;TZID=UTC:20260521T190000
DTEND;TZID=UTC:20260521T203000
DTSTAMP:20260424T125956
CREATED:20260123T101547Z
LAST-MODIFIED:20260123T101547Z
UID:10000660-1779390000-1779395400@gfg-woerrstadt.de
SUMMARY:Konzert aller Musikprojekte
DESCRIPTION:
URL:https://gfg-woerrstadt.de/kalender/konzert-aller-musikprojekte
END:VEVENT
BEGIN:VEVENT
DTSTART;VALUE=DATE:20260522
DTEND;VALUE=DATE:20260531
DTSTAMP:20260424T125956
CREATED:20260123T101645Z
LAST-MODIFIED:20260123T101645Z
UID:10000661-1779408000-1780185599@gfg-woerrstadt.de
SUMMARY:Frankreich-Austausch: GFG in Frankreich
DESCRIPTION:
URL:https://gfg-woerrstadt.de/kalender/frankreich-austausch-gfg-in-frankreich
END:VEVENT
END:VCALENDAR