BEGIN:VCALENDAR
VERSION:2.0
PRODID:-//Georg-Forster-Gesamtschule Wörrstadt - ECPv6.3.5//NONSGML v1.0//EN
CALSCALE:GREGORIAN
METHOD:PUBLISH
X-WR-CALNAME:Georg-Forster-Gesamtschule Wörrstadt
X-ORIGINAL-URL:https://gfg-woerrstadt.de
X-WR-CALDESC:Veranstaltungen für Georg-Forster-Gesamtschule Wörrstadt
REFRESH-INTERVAL;VALUE=DURATION:PT1H
X-Robots-Tag:noindex
X-PUBLISHED-TTL:PT1H
BEGIN:VTIMEZONE
TZID:UTC
BEGIN:STANDARD
TZOFFSETFROM:+0000
TZOFFSETTO:+0000
TZNAME:UTC
DTSTART:20240101T000000
END:STANDARD
END:VTIMEZONE
BEGIN:VEVENT
DTSTART;TZID=UTC:20240507T080000
DTEND;TZID=UTC:20240507T130000
DTSTAMP:20260423T095755
CREATED:20240117T131952Z
LAST-MODIFIED:20240117T131952Z
UID:10000471-1715068800-1715086800@gfg-woerrstadt.de
SUMMARY:Jg.9 Bewerbertag
DESCRIPTION:
URL:https://gfg-woerrstadt.de/kalender/jg-9-bewerbertag-3
END:VEVENT
BEGIN:VEVENT
DTSTART;VALUE=DATE:20240509
DTEND;VALUE=DATE:20240511
DTSTAMP:20260423T095755
CREATED:20240117T132044Z
LAST-MODIFIED:20240117T132044Z
UID:10000472-1715212800-1715385599@gfg-woerrstadt.de
SUMMARY:Christi Himmelfahrt und beweglicher Ferientag
DESCRIPTION:
URL:https://gfg-woerrstadt.de/kalender/christi-himmelfahrt-und-beweglicher-ferientag
END:VEVENT
END:VCALENDAR