BEGIN:VCALENDAR
VERSION:2.0
PRODID:-//Georg-Forster-Gesamtschule Wörrstadt - ECPv6.3.5//NONSGML v1.0//EN
CALSCALE:GREGORIAN
METHOD:PUBLISH
X-ORIGINAL-URL:https://gfg-woerrstadt.de
X-WR-CALDESC:Veranstaltungen für Georg-Forster-Gesamtschule Wörrstadt
REFRESH-INTERVAL;VALUE=DURATION:PT1H
X-Robots-Tag:noindex
X-PUBLISHED-TTL:PT1H
BEGIN:VTIMEZONE
TZID:UTC
BEGIN:STANDARD
TZOFFSETFROM:+0000
TZOFFSETTO:+0000
TZNAME:UTC
DTSTART:20260101T000000
END:STANDARD
END:VTIMEZONE
BEGIN:VEVENT
DTSTART;TZID=UTC:20260425T080000
DTEND;TZID=UTC:20260425T140000
DTSTAMP:20260420T135137
CREATED:20250817T081146Z
LAST-MODIFIED:20250817T081146Z
UID:10000632-1777104000-1777125600@gfg-woerrstadt.de
SUMMARY:Jg.9 Besuch der Berufsinformationsmesse (BIM) in Alzey
DESCRIPTION:
URL:https://gfg-woerrstadt.de/kalender/jg-9-besuch-der-berufsinformationsmesse-bim-in-alzey
END:VEVENT
END:VCALENDAR